BEGIN:VCALENDAR
VERSION:2.0
PRODID:-//Plone.org//NONSGML plone.app.event//EN
X-WR-TIMEZONE:America/New_York
BEGIN:VEVENT
SUMMARY:DevCon Conference Info. Session
DTSTART;TZID=America/New_York:20251111T130000
DTEND;TZID=America/New_York:20251111T140000
DTSTAMP:20260423T141432Z
UID:73bc289d348845cdb7d0e8b25d266466@172.16.140.7:8080
CATEGORIES:ds,Workshop,Student Affairs
CONTACT:Shayla Pruitt\, (718) 262-5161\, Spruitt@york.cuny.edu
CREATED:20251107T163826Z
DESCRIPTION:Interested in attending DevCon? Let's chat! Targeting freshmen
  and sophomores\, DevCon\, sponsored by the Thurgood Marshall College Fund
 \, equips students with core business skills\, professional competencies\,
  and targeted tech upskilling to prepare them for future career opportunit
 ies.
LAST-MODIFIED:20260112T161529Z
LOCATION:AC-1G06
URL:https://www.york.cuny.edu/events/2025/devcon-conference-info-session
END:VEVENT
BEGIN:VTIMEZONE
TZID:America/New_York
X-LIC-LOCATION:America/New_York
BEGIN:STANDARD
DTSTART:20251102T010000
TZNAME:EST
TZOFFSETFROM:-0400
TZOFFSETTO:-0500
END:STANDARD
END:VTIMEZONE
END:VCALENDAR
