BEGIN:VCALENDAR
VERSION:2.0
PRODID:-//Plone.org//NONSGML plone.app.event//EN
X-WR-TIMEZONE:America/New_York
BEGIN:VEVENT
SUMMARY:Deloitte MADE Mock Interview
DTSTART;TZID=America/New_York:20250501T110000
DTEND;TZID=America/New_York:20250501T150000
DTSTAMP:20260419T134243Z
UID:aeb3ff14111c4deb9ad990002d950a71@172.16.140.7:8080
CREATED:20250310T153540Z
LAST-MODIFIED:20260112T162952Z
URL:https://www.york.cuny.edu/events/2025/deloitte-made-mock-interview
END:VEVENT
BEGIN:VTIMEZONE
TZID:America/New_York
X-LIC-LOCATION:America/New_York
BEGIN:DAYLIGHT
DTSTART:20250309T030000
TZNAME:EDT
TZOFFSETFROM:-0500
TZOFFSETTO:-0400
END:DAYLIGHT
END:VTIMEZONE
END:VCALENDAR
