BEGIN:VCALENDAR
VERSION:2.0
PRODID:-//Plone.org//NONSGML plone.app.event//EN
X-WR-TIMEZONE:America/New_York
BEGIN:VEVENT
SUMMARY:Deep Dish with The Dean - 10/14/25
DTSTART;TZID=America/New_York:20251014T160000
DTEND;TZID=America/New_York:20251014T180000
DTSTAMP:20260420T105640Z
UID:e40cfcc5bf714534953ca4118e477031@172.16.140.7:8080
CATEGORIES:ds,Student Success Sessions
CONTACT:Shayla Pruitt\, (718) 262-5161\, Spruitt@york.cuny.edu
CREATED:20250919T182709Z
DESCRIPTION:What is your favorite anime character\, and what does it say a
 bout you?  Let's talk about it!  We invite you to join us for an evening o
 f anime discussion and pizza with Dr. George White\, Jr.\, Dean of the Sch
 ool of Arts and Sciences.  
LAST-MODIFIED:20260112T161634Z
LOCATION:AC-1G06
URL:https://www.york.cuny.edu/events/2025/deep-dish-with-the-dean
END:VEVENT
BEGIN:VTIMEZONE
TZID:America/New_York
X-LIC-LOCATION:America/New_York
BEGIN:DAYLIGHT
DTSTART:20250309T030000
TZNAME:EDT
TZOFFSETFROM:-0500
TZOFFSETTO:-0400
END:DAYLIGHT
END:VTIMEZONE
END:VCALENDAR
