BEGIN:VCALENDAR
VERSION:2.0
PRODID:-//Plone.org//NONSGML plone.app.event//EN
X-WR-TIMEZONE:America/New_York
BEGIN:VEVENT
SUMMARY:Deep Dish with The Dean - 12/4/25
DTSTART;TZID=America/New_York:20251204T160000
DTEND;TZID=America/New_York:20251204T180000
DTSTAMP:20260420T143840Z
UID:4ac2695e95814da19c23b1b169719021@172.16.140.7:8080
CATEGORIES:ds,Student Success Sessions
CONTACT:Shayla Pruitt\, (718) 262-5161\, Spruitt@york.cuny.edu
CREATED:20250919T184029Z
DESCRIPTION:What is your favorite anime character\, and what does it say a
 bout you?  Let's talk about it!  We invite you to join us for an evening o
 f anime discussion and pizza with Dr. George White\, Jr.\, Dean of the Sch
 ool of Arts and Sciences.  
LAST-MODIFIED:20260112T161635Z
LOCATION:AC-1G06
URL:https://www.york.cuny.edu/events/2025/deep-dish-with-the-dean-2
END:VEVENT
BEGIN:VTIMEZONE
TZID:America/New_York
X-LIC-LOCATION:America/New_York
BEGIN:STANDARD
DTSTART:20251102T010000
TZNAME:EST
TZOFFSETFROM:-0400
TZOFFSETTO:-0500
END:STANDARD
END:VTIMEZONE
END:VCALENDAR
