BEGIN:VCALENDAR
VERSION:2.0
PRODID:-//Plone.org//NONSGML plone.app.event//EN
X-WR-TIMEZONE:America/New_York
BEGIN:VEVENT
SUMMARY:Curriculum Meeting per Chair
DTSTART;TZID=America/New_York:20251023T120500
DTEND;TZID=America/New_York:20251023T135500
DTSTAMP:20260421T062042Z
UID:cc3b178fafcb4d4fad3b8d7a26252421@172.16.140.7:8080
RRULE:FREQ=DAILY;UNTIL=20251023T175500Z;INTERVAL=1
RDATE;TZID=America/New_York:20251121T000000,20260320T000000,20260417T00000
 0
CATEGORIES:Curriculum,Chairs Resources,Committees
CREATED:20250826T121536Z
LAST-MODIFIED:20251023T041103Z
URL:https://www.york.cuny.edu/events/2025/curriculum-meeting-per-chair
END:VEVENT
BEGIN:VTIMEZONE
TZID:America/New_York
X-LIC-LOCATION:America/New_York
BEGIN:DAYLIGHT
DTSTART:20250309T030000
TZNAME:EDT
TZOFFSETFROM:-0500
TZOFFSETTO:-0400
END:DAYLIGHT
END:VTIMEZONE
END:VCALENDAR
