BEGIN:VCALENDAR
VERSION:2.0
PRODID:-//Plone.org//NONSGML plone.app.event//EN
X-WR-TIMEZONE:America/New_York
BEGIN:VEVENT
SUMMARY:Fall 2025 Convocation
DTSTART:20250828T160000Z
DTEND:20250828T180000Z
DTSTAMP:20260423T022429Z
UID:1442c92f6d4640f5b6c68681b5c3bf63@172.16.140.7:8080
CATEGORIES:Convocation,2025
CREATED:20240605T151811Z
DESCRIPTION:Please join us for the Fall 2025 Convocation and Presidential 
 Investiture.
LAST-MODIFIED:20250828T132048Z
LOCATION:Academic Core Amphitheater
URL:https://www.york.cuny.edu/events/2025/convocation-fall
END:VEVENT
END:VCALENDAR
