BEGIN:VCALENDAR
VERSION:2.0
PRODID:-//Plone.org//NONSGML plone.app.event//EN
X-WR-TIMEZONE:America/New_York
BEGIN:VEVENT
SUMMARY:Clothing Giveaway - Tree/Minarah Setup
DTSTART;VALUE=DATE:20251214
DTEND;VALUE=DATE:20251215
DTSTAMP:20260421T035107Z
UID:67504db3ed88499ea851226cf2184f2f@172.16.140.7:8080
CATEGORIES:SGA
CREATED:20250822T200336Z
LAST-MODIFIED:20250822T200343Z
LOCATION:SGA Office
URL:https://www.york.cuny.edu/events/2025/clothing-giveaway-tree-minarah-s
 etup
END:VEVENT
END:VCALENDAR
