BEGIN:VCALENDAR
VERSION:2.0
PRODID:-//Plone.org//NONSGML plone.app.event//EN
X-WR-TIMEZONE:America/New_York
BEGIN:VEVENT
SUMMARY:Bystander Intervention Training
DTSTART;TZID=America/New_York:20250911T120000
DTEND;TZID=America/New_York:20250911T140000
DTSTAMP:20260423T221235Z
UID:fe3672da205a463faa961b56eeb618dd@172.16.140.7:8080
CATEGORIES:Diversity and Compliance,Women Center
CONTACT:Danielle Holmes\, 718-262-2137\, dholmes@york.cuny.edu
CREATED:20250908T210418Z
DESCRIPTION:in partnership with the Women's Center for Gender Justice
LAST-MODIFIED:20260112T161629Z
LOCATION:AC-2D01
URL:https://www.york.cuny.edu/events/2025/bystander-intervention-training
END:VEVENT
BEGIN:VTIMEZONE
TZID:America/New_York
X-LIC-LOCATION:America/New_York
BEGIN:DAYLIGHT
DTSTART:20250309T030000
TZNAME:EDT
TZOFFSETFROM:-0500
TZOFFSETTO:-0400
END:DAYLIGHT
END:VTIMEZONE
END:VCALENDAR
