BEGIN:VCALENDAR
VERSION:2.0
PRODID:-//Plone.org//NONSGML plone.app.event//EN
X-WR-TIMEZONE:America/New_York
BEGIN:VEVENT
SUMMARY:Bystander Intervention (Discrimination Focus)
DTSTART;TZID=America/New_York:20260205T120000
DTEND;TZID=America/New_York:20260205T140000
DTSTAMP:20260420T163241Z
UID:feb525b76a84475983c833a700ebe49f@172.16.140.7:8080
CATEGORIES:Office of Diversity and Compliance,Student Success Sessions
CONTACT:Office of Diversity and Compliance\, odc@york.cuny.edu
CREATED:20250926T131954Z
DESCRIPTION:Workshop is built on the idea that we all play a role in creat
 ing safe public spaces for each other when we see our neighbors and commun
 ity members facing bias\, discrimination\, or harassment.
LAST-MODIFIED:20260206T214941Z
LOCATION:AC-2D01
URL:https://www.york.cuny.edu/events/2025/bystander-intervention-discrimin
 ation-focus-1
END:VEVENT
BEGIN:VTIMEZONE
TZID:America/New_York
X-LIC-LOCATION:America/New_York
BEGIN:STANDARD
DTSTART:20251102T010000
TZNAME:EST
TZOFFSETFROM:-0400
TZOFFSETTO:-0500
END:STANDARD
END:VTIMEZONE
END:VCALENDAR
