BEGIN:VCALENDAR
VERSION:2.0
PRODID:-//Plone.org//NONSGML plone.app.event//EN
X-WR-TIMEZONE:America/New_York
BEGIN:VEVENT
SUMMARY:Behind the Joy Film Screening
DTSTART;TZID=America/New_York:20251011T133000
DTEND;TZID=America/New_York:20251011T173000
DTSTAMP:20260424T012615Z
UID:546920735d4845f498dd8e7e6c789736@172.16.140.7:8080
CATEGORIES:ds
CONTACT:Stancy Saji\, ssaji9@northwell.edu\, https://www.eventbrite.com/e/
 behind-the-joy-screening-tickets-1615602202679
CREATED:20250930T181132Z
DESCRIPTION:York College will host the Queens premiere of Behind the Joy\,
  an international award-winning film that explores postpartum depression a
 nd opens an important conversation on maternal mental health.
LAST-MODIFIED:20260112T161520Z
LOCATION:94-20 Guy R Brewer Boulevard Queens\, NY 11451
URL:https://www.york.cuny.edu/events/2025/behind-the-joy
END:VEVENT
BEGIN:VTIMEZONE
TZID:America/New_York
X-LIC-LOCATION:America/New_York
BEGIN:DAYLIGHT
DTSTART:20250309T030000
TZNAME:EDT
TZOFFSETFROM:-0500
TZOFFSETTO:-0400
END:DAYLIGHT
END:VTIMEZONE
END:VCALENDAR
