BEGIN:VCALENDAR
VERSION:2.0
PRODID:-//Plone.org//NONSGML plone.app.event//EN
X-WR-TIMEZONE:America/New_York
BEGIN:VEVENT
SUMMARY:Ash Wednesday
DTSTART;TZID=America/New_York:20250305T130000
DTEND;TZID=America/New_York:20250305T150000
DTSTAMP:20260422T124517Z
UID:0fc92e4b19ea4d24becf8b11fcf761bf@172.16.140.7:8080
CATEGORIES:ds
CONTACT:Michele Hardy\, mhardy@york.cuny.edu
CREATED:20250304T213102Z
DESCRIPTION:Receive Ashes and /or a Blessing on Campus. Get ready for Lent
  with Fr. Joseph jude Gannon Pastor of the Shrine Church of Gerard Majella
LAST-MODIFIED:20260112T162951Z
LOCATION:AC-3H Atrium
URL:https://www.york.cuny.edu/events/2025/ash-wednesday
END:VEVENT
BEGIN:VTIMEZONE
TZID:America/New_York
X-LIC-LOCATION:America/New_York
BEGIN:STANDARD
DTSTART:20241103T010000
TZNAME:EST
TZOFFSETFROM:-0400
TZOFFSETTO:-0500
END:STANDARD
END:VTIMEZONE
END:VCALENDAR
