BEGIN:VCALENDAR
VERSION:2.0
PRODID:-//Plone.org//NONSGML plone.app.event//EN
X-WR-TIMEZONE:America/New_York
BEGIN:VEVENT
SUMMARY:AI and Adobe Express Workshop
DTSTART;TZID=America/New_York:20250424T160000
DTEND;TZID=America/New_York:20250424T170000
DTSTAMP:20260423T201739Z
UID:05e31395b9db4193816d2a1ef18af305@172.16.140.7:8080
CATEGORIES:ds,Mathematics and Computer Science,S-STERM
CONTACT:alvaro restrepo\, 718-262-2535\, arestrepo@york.cuny.edu\, https:/
 /us02web.zoom.us/j/4138372106?pwd=gL4W6tSJruZ2arpw63ZeAP2aXpCyCq.1&omn=835
 69727174
CREATED:20250421T174302Z
DESCRIPTION:S-STEM\, Mathematics and Computer Science Department presents 
 a special workshop on AI and Adobe Express.
LAST-MODIFIED:20260112T161725Z
LOCATION:AC-2M04
URL:https://www.york.cuny.edu/events/2025/adobe-york
END:VEVENT
BEGIN:VTIMEZONE
TZID:America/New_York
X-LIC-LOCATION:America/New_York
BEGIN:DAYLIGHT
DTSTART:20250309T030000
TZNAME:EDT
TZOFFSETFROM:-0500
TZOFFSETTO:-0400
END:DAYLIGHT
END:VTIMEZONE
END:VCALENDAR
