BEGIN:VCALENDAR
VERSION:2.0
PRODID:-//Plone.org//NONSGML plone.app.event//EN
X-WR-TIMEZONE:America/New_York
BEGIN:VEVENT
SUMMARY:Academic Exchange Symposium
DTSTART;TZID=America/New_York:20251120T120000
DTEND;TZID=America/New_York:20251120T140000
DTSTAMP:20260420T082318Z
UID:f681ef548cac48fea1cd872349ef194b@172.16.140.7:8080
CATEGORIES:Faculty and Staff,ds,Faculty Publication Workshop,Student Activ
 ities
CONTACT:Linda Grasso\, lgrasso@york.cuny.edu
CREATED:20251021T202143Z
DESCRIPTION:Come hear a sculptor and sociologist discuss their work.
LAST-MODIFIED:20251124T171450Z
LOCATION:AC-2D01
URL:https://www.york.cuny.edu/events/2025/academic-exchange-symposium
END:VEVENT
BEGIN:VTIMEZONE
TZID:America/New_York
X-LIC-LOCATION:America/New_York
BEGIN:STANDARD
DTSTART:20251102T010000
TZNAME:EST
TZOFFSETFROM:-0400
TZOFFSETTO:-0500
END:STANDARD
END:VTIMEZONE
END:VCALENDAR
