BEGIN:VCALENDAR
VERSION:2.0
PRODID:-//Plone.org//NONSGML plone.app.event//EN
X-WR-TIMEZONE:America/New_York
BEGIN:VEVENT
SUMMARY:A Treat for Transfer Week
DTSTART;TZID=America/New_York:20251020T090000
DTEND;TZID=America/New_York:20251024T170000
DTSTAMP:20260420T190420Z
UID:e0209fabbdea4e6c8bc634d45fdc06fa@172.16.140.7:8080
CATEGORIES:ds,National Transfer Student Week
CONTACT:Shayla Pruitt\, (718) 262-5161\, Spruitt@york.cuny.edu
CREATED:20250916T195639Z
DESCRIPTION:In honor of National Transfer Student Week\, various offices w
 ill be offering a special treat for those who drop by for a visit.
LAST-MODIFIED:20260112T161633Z
URL:https://www.york.cuny.edu/events/2025/a-treat-for-transfer-week
END:VEVENT
BEGIN:VTIMEZONE
TZID:America/New_York
X-LIC-LOCATION:America/New_York
BEGIN:DAYLIGHT
DTSTART:20250309T030000
TZNAME:EDT
TZOFFSETFROM:-0500
TZOFFSETTO:-0400
END:DAYLIGHT
END:VTIMEZONE
END:VCALENDAR
