BEGIN:VCALENDAR
VERSION:2.0
PRODID:-//Plone.org//NONSGML plone.app.event//EN
X-WR-TIMEZONE:America/New_York
BEGIN:VEVENT
SUMMARY:2025 Cardinal Spirit Week: 2025 Decades/ Throwback Day
DTSTART;TZID=America/New_York:20251011T090000
DTEND;TZID=America/New_York:20251011T170000
DTSTAMP:20260420T013039Z
UID:183db9e0dca04bb78b662eb7d6f6db62@172.16.140.7:8080
CATEGORIES:2025 Cardinal Spirit Week,ds,Student Activities
CONTACT:Dr. Rachael Walton\, 718-262-2286\, rwalton@york.cuny.edu
CREATED:20250919T204924Z
DESCRIPTION: Enter the Best Dress Contest daily by posting your pictures o
 n the Cardinal App and getting the most likes by midnight to win a prize. 
LAST-MODIFIED:20260112T161636Z
LOCATION:Campus Wide
URL:https://www.york.cuny.edu/events/2025/2025-decades-throwback-day
END:VEVENT
BEGIN:VTIMEZONE
TZID:America/New_York
X-LIC-LOCATION:America/New_York
BEGIN:DAYLIGHT
DTSTART:20250309T030000
TZNAME:EDT
TZOFFSETFROM:-0500
TZOFFSETTO:-0400
END:DAYLIGHT
END:VTIMEZONE
END:VCALENDAR
