BEGIN:VCALENDAR
VERSION:2.0
PRODID:-//Plone.org//NONSGML plone.app.event//EN
X-WR-TIMEZONE:America/New_York
BEGIN:VEVENT
SUMMARY:Women’s Tennis vs. Lehman College
DTSTART;TZID=America/New_York:20240919T150000
DTEND;TZID=America/New_York:20240919T170000
DTSTAMP:20260421T170534Z
UID:0afd3516bf8a49ce9c70a3b8ec01ce3d@172.16.140.7:8080
CATEGORIES:Athletics Digital Signage,employee,Athletics,ds,employee featur
 ed,student,Student Activities
CONTACT:York Athletics\, yorkathletics@york.cuny.edu\, https://yorkathleti
 cs.com/calendar
CREATED:20210911T030733Z
DESCRIPTION:York College Cardinals take on the Lehman College Lightning in
  a CUNYAC Women's Tennis showdown on home court!
LAST-MODIFIED:20240824T012952Z
LOCATION:York College Courts
URL:https://www.york.cuny.edu/events/2024/womens-tennis-vs-lehman-09192024
END:VEVENT
BEGIN:VTIMEZONE
TZID:America/New_York
X-LIC-LOCATION:America/New_York
BEGIN:DAYLIGHT
DTSTART:20240310T030000
TZNAME:EDT
TZOFFSETFROM:-0500
TZOFFSETTO:-0400
END:DAYLIGHT
END:VTIMEZONE
END:VCALENDAR
