BEGIN:VCALENDAR
VERSION:2.0
PRODID:-//Plone.org//NONSGML plone.app.event//EN
X-WR-TIMEZONE:America/New_York
BEGIN:VEVENT
SUMMARY:Procrastination: How to Overcome It Now
DTSTART:20240306T170000Z
DTEND:20240306T180000Z
DTSTAMP:20260420T211617Z
UID:6961b22f574d4c27af07e01b33c151f6@172.16.140.7:8080
CATEGORIES:Student Affairs,Counseling Center,ds
CONTACT:Counseling Center\, 718-262-2272\, counseling@york.cuny.edu
CREATED:20240119T170640Z
DESCRIPTION:The Counseling Center provides a range of psychoeducational wo
 rkshops addressing diverse subjects\, including anxiety\, depression\, and
  empathy. These sessions not only offer insights into these topics but als
 o equip students with valuable coping skills.
LAST-MODIFIED:20240417T170830Z
LOCATION:AC-2M05
URL:https://www.york.cuny.edu/events/2024/wellness-wednesdays-02
END:VEVENT
END:VCALENDAR
