BEGIN:VCALENDAR
VERSION:2.0
PRODID:-//Plone.org//NONSGML plone.app.event//EN
X-WR-TIMEZONE:America/New_York
BEGIN:VEVENT
SUMMARY:Spring Symposium
DTSTART:20240411T160000Z
DTEND:20240411T173000Z
DTSTAMP:20260423T214012Z
UID:cf276e6a2d5b43498cccd08360a8b8a6@172.16.140.7:8080
CREATED:20240308T220146Z
DESCRIPTION:The Spring Symposium is a multi-disciplinary conference off
 ering a brief look at the fascinating research representative of the level
  of scholarship you may expect from York’s faculty within each of our sc
 hools! 
LAST-MODIFIED:20240417T170626Z
LOCATION:AC-2D01
URL:https://www.york.cuny.edu/events/2024/spring-symposium
END:VEVENT
END:VCALENDAR
