BEGIN:VCALENDAR
VERSION:2.0
PRODID:-//Plone.org//NONSGML plone.app.event//EN
X-WR-TIMEZONE:America/New_York
BEGIN:VEVENT
SUMMARY:So You Want to be a Nurse?
DTSTART:20240206T170000Z
DTEND:20240206T180000Z
DTSTAMP:20260421T155259Z
UID:2c25ca0c46cd489989758dc70696dd82@172.16.140.7:8080
CATEGORIES:Student Affairs,ds,Student Success Sessions
CONTACT:Shayla Pruitt\, 718-262-5161\, Spruitt@york.cuny.edu
CREATED:20240125T145708Z
DESCRIPTION:What does it mean to be a registered nurse?  In this session\,
  students will receive a comprehensive overview about the profession\, the
  academic curriculum and learn about the exciting opportunities associated
  with being a York College nursing student.
LAST-MODIFIED:20240417T170831Z
LOCATION:AC-2C03
URL:https://www.york.cuny.edu/events/2024/so-you-want-to-be-a-nurse
END:VEVENT
END:VCALENDAR
