BEGIN:VCALENDAR
VERSION:2.0
PRODID:-//Plone.org//NONSGML plone.app.event//EN
X-WR-TIMEZONE:America/New_York
BEGIN:VEVENT
SUMMARY:Self Awareness
DTSTART:20240306T220000Z
DTEND:20240306T230000Z
DTSTAMP:20260419T115007Z
UID:e431c19d3f504ffbaf4fb41c901cad9f@172.16.140.7:8080
CATEGORIES:Student Affairs,Men's Center,ds,One York Brotherhood
CONTACT:Men's Center\, 718-262-3772\, rsmith15@york.cuny.edu
CREATED:20240216T182146Z
DESCRIPTION:Developing self-awareness helps us make better decisions and d
 eepens our self-confidence. This workshop will help you understand the imp
 ortance of doing a deep dive into your strengths\, challenges\, wants\, ne
 eds and skills\; and how this is relevant to your academic and personal gr
 owth.
LAST-MODIFIED:20240417T170622Z
LOCATION:AC-1G06
URL:https://www.york.cuny.edu/events/2024/self-awareness
END:VEVENT
END:VCALENDAR
