BEGIN:VCALENDAR
VERSION:2.0
PRODID:-//Plone.org//NONSGML plone.app.event//EN
X-WR-TIMEZONE:America/New_York
BEGIN:VEVENT
SUMMARY:Resources for Resolution
DTSTART:20240215T170000Z
DTEND:20240215T180000Z
DTSTAMP:20260421T203301Z
UID:ed006b5a17f54f48949072508da54431@172.16.140.7:8080
CATEGORIES:Student Affairs,ds,Student Success Sessions
CONTACT:Shayla Pruitt\, (718) 262-5161\, Spruitt@york.cuny.edu
CREATED:20240125T165349Z
DESCRIPTION:Designed with first-generation students in mind\, we invite ne
 w Cardinals to join us for this informative session on how to access colle
 ge resources and address challenges early.  Students will learn about the 
 academic appeal process\, student behavior protocols\, emergency assistanc
 e and more.
LAST-MODIFIED:20240417T170830Z
LOCATION:AC-1G06
URL:https://www.york.cuny.edu/events/2024/resources-for-resolution
END:VEVENT
END:VCALENDAR
