BEGIN:VCALENDAR
VERSION:2.0
PRODID:-//Plone.org//NONSGML plone.app.event//EN
X-WR-TIMEZONE:America/New_York
BEGIN:VEVENT
SUMMARY:Open Swimming
DTSTART;TZID=America/New_York:20240610T120000
DTEND;TZID=America/New_York:20240627T140000
DTSTAMP:20260420T235944Z
UID:f5a94e2be83b4a28bd50f23f79b9e6d8@172.16.140.7:8080
RRULE:FREQ=WEEKLY;UNTIL=20240627T180000Z;INTERVAL=1;BYDAY=MO,TU,WE,TH,FR;W
 KST=MO
EXDATE;TZID=America/New_York:20240614T160000,20240619T160000,20240621T1600
 00
CATEGORIES:Athletics Digital Signage,employee,Athletics,ds,employee featur
 ed,student,Student Activities
CONTACT:York Recreation\, jbaxter@york.cuny.edu\, https://yorkathletics.co
 m/recschedule
CREATED:20210911T030733Z
DESCRIPTION:Join us for lap\, leisure and open swimming in our six-lane po
 ol located inside York College Natatorium! Our June schedule runs Monday-T
 hursday from 12-2 PM.
LAST-MODIFIED:20240606T171818Z
LOCATION:York College Natatorium
URL:https://www.york.cuny.edu/events/2024/open-swimming-june-2024
END:VEVENT
BEGIN:VTIMEZONE
TZID:America/New_York
X-LIC-LOCATION:America/New_York
BEGIN:DAYLIGHT
DTSTART:20240310T030000
TZNAME:EDT
TZOFFSETFROM:-0500
TZOFFSETTO:-0400
END:DAYLIGHT
END:VTIMEZONE
END:VCALENDAR
