BEGIN:VCALENDAR
VERSION:2.0
PRODID:-//Plone.org//NONSGML plone.app.event//EN
X-WR-TIMEZONE:America/New_York
BEGIN:VEVENT
SUMMARY:Men’s Soccer vs. Medgar Evers College
DTSTART;TZID=America/New_York:20241022T150000
DTEND;TZID=America/New_York:20241022T170000
DTSTAMP:20260421T104235Z
UID:4c68bb7e93944179bd464119efc73f2b@172.16.140.7:8080
CATEGORIES:Athletics Digital Signage,employee,Athletics,ds,employee featur
 ed,student,Student Activities
CONTACT:York Athletics\, yorkathletics@york.cuny.edu\, https://yorkathleti
 cs.com/calendar
CREATED:20210911T030733Z
DESCRIPTION:York College Cardinals defend home field on Senior Day in a CU
 NYAC Men’s Soccer match against the Medgar Evers College Cougars!
LAST-MODIFIED:20241011T051704Z
LOCATION:York College Outdoor Athletic Complex
URL:https://www.york.cuny.edu/events/2024/mens-soccer-vs-medgar-evers-1022
 2024
END:VEVENT
BEGIN:VTIMEZONE
TZID:America/New_York
X-LIC-LOCATION:America/New_York
BEGIN:DAYLIGHT
DTSTART:20240310T030000
TZNAME:EDT
TZOFFSETFROM:-0500
TZOFFSETTO:-0400
END:DAYLIGHT
END:VTIMEZONE
END:VCALENDAR
