BEGIN:VCALENDAR
VERSION:2.0
PRODID:-//Plone.org//NONSGML plone.app.event//EN
X-WR-TIMEZONE:America/New_York
BEGIN:VEVENT
SUMMARY:Lavender Graduation and York Disabled Student Recognition Ceremony
DTSTART:20240508T170000Z
DTEND:20240508T200000Z
DTSTAMP:20260421T151942Z
UID:38c8747a5dac43818be2162028f5b1e2@172.16.140.7:8080
CATEGORIES:Women Center,Commencement,ds,2024
CONTACT:Nichole Acevedo\, 718-262-2008\, nacevedo@york.cuny.edu\, https://
 docs.google.com/forms/d/e/1FAIpQLSeMwk-QdkU_X8AZ4cE8q9zug13RFYp1aWBoUE3VeQ
 oExXvXLg/viewform
CREATED:20240501T204245Z
DESCRIPTION:CUNY Queens Borough-wide Lavender Graduation and York Disabled
  Student Recognition Ceremony at York College
LAST-MODIFIED:20260406T122142Z
LOCATION:AC-3rd floor Atrium
URL:http://172.16.140.7:8080/yc1/events/2024/lavender-graduation-and-york-
 disabled-student
END:VEVENT
END:VCALENDAR
