BEGIN:VCALENDAR
VERSION:2.0
PRODID:-//Plone.org//NONSGML plone.app.event//EN
X-WR-TIMEZONE:America/New_York
BEGIN:VEVENT
SUMMARY:Addressing Research Integrity in an Introductory Biology Lab
DTSTART:20241115T170000Z
DTEND:20241115T180000Z
DTSTAMP:20260424T024947Z
UID:e4de2a9ec55c4dbc978d713a52a7bc92@172.16.140.7:8080
CATEGORIES:Biology
CONTACT:Timothy Kirk\, 718-262-5316\, tkirk@york.cuny.edu\, https://us02we
 b.zoom.us/j/87645685521?pwd=FbsDv5fdHZalb25xnTzxSKAx4yiZQu.1&from=addon
CREATED:20241106T161557Z
DESCRIPTION:The Teaching for Integrity series is an initiative of the acad
 emic integrity program to foster a college-wide discussion of best practic
 es in teaching and learning with integrity.
LAST-MODIFIED:20250106T152633Z
LOCATION:Zoom
URL:https://www.york.cuny.edu/events/2024/integrity3
END:VEVENT
END:VCALENDAR
