BEGIN:VCALENDAR
VERSION:2.0
PRODID:-//Plone.org//NONSGML plone.app.event//EN
X-WR-TIMEZONE:America/New_York
BEGIN:VEVENT
SUMMARY:Fall Blood Drive
DTSTART:20231130T170000Z
DTEND:20231130T230000Z
DTSTAMP:20260420T024558Z
UID:416a7febac894f879eb988450f80af15@172.16.140.7:8080
CATEGORIES:Student Affairs,Student Activities
CREATED:20231127T183756Z
DESCRIPTION:Blood Drive is a  charitable event in which individuals donate
  their blood to support others with injuries or illnesses\; those having s
 urgery\, chemotherapy\, and other medical procedures.
LAST-MODIFIED:20240417T170231Z
LOCATION:AC-Atrium
URL:https://www.york.cuny.edu/events/2024/fall-blood-drive
END:VEVENT
END:VCALENDAR
