BEGIN:VCALENDAR
VERSION:2.0
PRODID:-//Plone.org//NONSGML plone.app.event//EN
X-WR-TIMEZONE:America/New_York
BEGIN:VEVENT
SUMMARY:Enhancing Undergraduate Cybersecurity Education and Exploring Cann
 abis Impact on Aging
DTSTART:20240215T170000Z
DTEND:20240215T180000Z
DTSTAMP:20260421T151008Z
UID:3163192e8eff429682d8fedd76383c8c@172.16.140.7:8080
CATEGORIES:Chemistry,ds,Mathematics and Computer Science
CREATED:20240207T203721Z
DESCRIPTION:This Faculty Lecture Series featuring two cutting-edge present
 ations by Dr. Srivatanakul and Dr. Zhou
LAST-MODIFIED:20240417T170620Z
LOCATION:AC-2M04
URL:https://www.york.cuny.edu/events/2024/faculty-lecture-series-featuring
 -dr-srivantanakul-and-dr-zhou
END:VEVENT
END:VCALENDAR
