BEGIN:VCALENDAR
VERSION:2.0
PRODID:-//Plone.org//NONSGML plone.app.event//EN
X-WR-TIMEZONE:America/New_York
BEGIN:VEVENT
SUMMARY:Deep Dish with the Dean - 4/4
DTSTART:20240404T200000Z
DTEND:20240404T220000Z
DTSTAMP:20260420T145600Z
UID:705cbbe7216441a2b3efae366a43bdc5@172.16.140.7:8080
CATEGORIES:Student Affairs,ds,Student Success Sessions
CONTACT:Shayla Pruitt\, (718) 262-5161\, Spruitt@york.cuny.edu
CREATED:20240125T175101Z
DESCRIPTION:Chop it up with Dr. George White.\, Jr.\, Interim Dean of the 
 School of Arts & Sciences.  Be prepared to discuss your favorite anime and
  what it says about you.
LAST-MODIFIED:20240417T170825Z
LOCATION:AC-1G06
URL:https://www.york.cuny.edu/events/2024/deep-dish-with-the-dean-2
END:VEVENT
END:VCALENDAR
