BEGIN:VCALENDAR
VERSION:2.0
PRODID:-//Plone.org//NONSGML plone.app.event//EN
X-WR-TIMEZONE:America/New_York
BEGIN:VEVENT
SUMMARY:Converge 2024
DTSTART:20240405T133000Z
DTEND:20240405T193000Z
DTSTAMP:20260420T035330Z
UID:0b15295a2b5a4c50980fbb8fbcac2243@172.16.140.7:8080
CATEGORIES:ds,Mathematics and Computer Science
CREATED:20240228T182323Z
DESCRIPTION:Building Futures in STEM\, Health Sciences and Professional Pr
 ograms
LAST-MODIFIED:20240417T170624Z
LOCATION:AC Building
URL:https://www.york.cuny.edu/events/2024/converge-2024
END:VEVENT
END:VCALENDAR
