BEGIN:VCALENDAR
VERSION:2.0
PRODID:-//Plone.org//NONSGML plone.app.event//EN
X-WR-TIMEZONE:America/New_York
BEGIN:VEVENT
SUMMARY:Artificial Intelligence
DTSTART:20240319T170000Z
DTEND:20240319T180000Z
DTSTAMP:20260422T055827Z
UID:9701e5ea50ca4d24b9845b2c13bf15e0@172.16.140.7:8080
CATEGORIES:Student Affairs,ds,Student Success Sessions
CONTACT:Shayla Pruitt\, (718) 262-5161\, Spruitt@york.cuny.edu
CREATED:20240229T162641Z
DESCRIPTION:Face recognition\, ChatGPT\, Alexa and Siri are all prevalent 
 today. Learn how these and other AI creations work and what it means for t
 he future of simulated human intelligence.
LAST-MODIFIED:20240417T170624Z
LOCATION:AC-1C08B
URL:https://www.york.cuny.edu/events/2024/artificial-intelligence
END:VEVENT
END:VCALENDAR
