BEGIN:VCALENDAR
VERSION:2.0
PRODID:-//Plone.org//NONSGML plone.app.event//EN
X-WR-TIMEZONE:America/New_York
BEGIN:VEVENT
SUMMARY:York College Day at the Movies
DTSTART:20240413T220000Z
DTEND:20240414T000000Z
DTSTAMP:20260421T153048Z
UID:2e8232e225ae4ed8851f4cb2ca9c940e@172.16.140.7:8080
CATEGORIES:ds,Student Activities
CONTACT:Rachael Walton\, 718-262-5287\, studentactivities@york.cuny.edu\, 
 https://yorkcuny.iad1.qualtrics.com/jfe/form/SV_cAZNhs7Cfsr66PA?Q_CHL=qr
CREATED:20240126T204547Z
DESCRIPTION:The Office of Student Activities Invites You to Celebrate the 
 Class of 2024
LAST-MODIFIED:20240417T170909Z
LOCATION:Jamaica Multiplex Theatre     159-02 Jamaica Avenue     Queens\, 
 NY 11423
URL:https://www.york.cuny.edu/events/2024/2024-lewis-latimer-science-caree
 r-expo-1
END:VEVENT
END:VCALENDAR
