BEGIN:VCALENDAR
VERSION:2.0
PRODID:-//Plone.org//NONSGML plone.app.event//EN
X-WR-TIMEZONE:America/New_York
BEGIN:VEVENT
SUMMARY:2024 Cardinal Vision Board Party
DTSTART:20241001T160000Z
DTEND:20241001T180000Z
DTSTAMP:20260421T023617Z
UID:4d64cc9f8df14ed8acb38cc02bfbf3c3@172.16.140.7:8080
CATEGORIES:Women Center,Counseling Center,ds,Student Affairs,Men's Center,
 Student Activities
CONTACT:Dr. Rachael Walton\, 718-262-2286\, studentactivities@york.cuny.ed
 u
CREATED:20240909T195034Z
DESCRIPTION:The Office of Student Activities In collaboration with the Men
 's Center\, the Women's Center and the Counseling Center "The Vision Board
  Party" Bring your old magazines\, poster boards and refreshments will be 
 provided.
LAST-MODIFIED:20250106T152622Z
LOCATION:AC-2D01
URL:https://www.york.cuny.edu/events/2024/2024-cardinal-vision-board-party
END:VEVENT
END:VCALENDAR
