BEGIN:VCALENDAR
VERSION:2.0
PRODID:-//Plone.org//NONSGML plone.app.event//EN
X-WR-TIMEZONE:America/New_York
BEGIN:VEVENT
SUMMARY:Stroll Off 2023
DTSTART;TZID=America/New_York:20230504T180000
DTEND;TZID=America/New_York:20230504T200000
DTSTAMP:20260421T045827Z
UID:0ad9d05fdf774f22ba15187f444346f2@172.16.140.7:8080
CATEGORIES:Student Affairs,Student Activities
CONTACT:Joery Francois\, 718-262-2446\, jfrancois4@york.cuny.edu
CREATED:20230426T004854Z
DESCRIPTION:Performing Arts Event in honor of 50 years o Hip-Hop\, showcas
 ing step/stroll culture of Divine 9 Greek Letter Organizations - school su
 pply drive benefitting children in the South Jamaica Community
LAST-MODIFIED:20230428T123333Z
LOCATION:HPE Bldg. - Basketball GYM
URL:https://www.york.cuny.edu/events/2023/york-college-stroll-off-2023
END:VEVENT
BEGIN:VTIMEZONE
TZID:America/New_York
X-LIC-LOCATION:America/New_York
BEGIN:DAYLIGHT
DTSTART:20230312T030000
TZNAME:EDT
TZOFFSETFROM:-0500
TZOFFSETTO:-0400
END:DAYLIGHT
END:VTIMEZONE
END:VCALENDAR
