BEGIN:VCALENDAR
VERSION:2.0
PRODID:-//Plone.org//NONSGML plone.app.event//EN
X-WR-TIMEZONE:America/New_York
BEGIN:VEVENT
SUMMARY:Wit - Friday night performance
DTSTART;TZID=America/New_York:20230414T190000
DTEND;TZID=America/New_York:20230414T210000
DTSTAMP:20260426T003300Z
UID:c27f91700d1a410fa290c44c6551e3c5@172.16.140.7:8080
CATEGORIES:Nursing,Performing Arts
CONTACT:Tom Marion\, 718-262-3708\, tmarion@york.cuny.edu
CREATED:20230320T203606Z
DESCRIPTION:Presented by the Departments of Nursing & Performing and Fine 
 Arts
LAST-MODIFIED:20230322T131353Z
LOCATION:SB-102
URL:https://www.york.cuny.edu/events/2023/wit
END:VEVENT
BEGIN:VTIMEZONE
TZID:America/New_York
X-LIC-LOCATION:America/New_York
BEGIN:DAYLIGHT
DTSTART:20230312T030000
TZNAME:EDT
TZOFFSETFROM:-0500
TZOFFSETTO:-0400
END:DAYLIGHT
END:VTIMEZONE
END:VCALENDAR
