BEGIN:VCALENDAR
VERSION:2.0
PRODID:-//Plone.org//NONSGML plone.app.event//EN
X-WR-TIMEZONE:America/New_York
BEGIN:VEVENT
SUMMARY:TEST
DTSTART;TZID=America/New_York:20260425T140000
DTEND;TZID=America/New_York:20260425T150000
DTSTAMP:20260425T145342Z
UID:a88fe1747941486f8a14b2f74b3a2739@172.16.140.7:8080
CONTACT:Contact\, 718-262-2452\, info@york.cuny.edu
CREATED:20230301T164448Z
DESCRIPTION:TESTING THE AUTOMATION OF EVENTS TO CUNY CALENDAR\, please Ign
 ore.
LAST-MODIFIED:20251106T162037Z
LOCATION:Location
URL:https://www.york.cuny.edu/events/2023/test
END:VEVENT
BEGIN:VTIMEZONE
TZID:America/New_York
X-LIC-LOCATION:America/New_York
BEGIN:DAYLIGHT
DTSTART:20260308T030000
TZNAME:EDT
TZOFFSETFROM:-0500
TZOFFSETTO:-0400
END:DAYLIGHT
END:VTIMEZONE
END:VCALENDAR
