BEGIN:VCALENDAR
VERSION:2.0
PRODID:-//Plone.org//NONSGML plone.app.event//EN
X-WR-TIMEZONE:America/New_York
BEGIN:VEVENT
SUMMARY:Study Up for Midterms
DTSTART;TZID=America/New_York:20230318T120000
DTEND;TZID=America/New_York:20230318T140000
DTSTAMP:20260424T005420Z
UID:8694b5a93b3442f1974d9dde13ebc853@172.16.140.7:8080
CATEGORIES:Student Affairs
CONTACT:Office of Student Development\, (718) 262-2331\, studentdevelopmen
 t@york.cuny.edu
CREATED:20230310T211946Z
DESCRIPTION:Cardinals! Free coffee\, tea\, and refreshments will be availa
 ble for students on March 15th\, 16th\, and 20th from 5pm-7pm\, and on Mar
 ch 18th from 12pm-2pm. Stop by the Welcome Center and grab a beverage to d
 rink while you study for midterms!
LAST-MODIFIED:20230310T212106Z
LOCATION:The Welcome Center
URL:https://www.york.cuny.edu/events/2023/study-up-for-midterms--
END:VEVENT
BEGIN:VTIMEZONE
TZID:America/New_York
X-LIC-LOCATION:America/New_York
BEGIN:DAYLIGHT
DTSTART:20230312T030000
TZNAME:EDT
TZOFFSETFROM:-0500
TZOFFSETTO:-0400
END:DAYLIGHT
END:VTIMEZONE
END:VCALENDAR
