BEGIN:VCALENDAR
VERSION:2.0
PRODID:-//Plone.org//NONSGML plone.app.event//EN
X-WR-TIMEZONE:America/New_York
BEGIN:VEVENT
SUMMARY:Study Up for Finals
DTSTART;TZID=America/New_York:20230517T170000
DTEND;TZID=America/New_York:20230517T190000
DTSTAMP:20260421T235833Z
UID:a3ae2842dbf249dd9f691d1ce5bb60c4@172.16.140.7:8080
RRULE:FREQ=DAILY;COUNT=7
EXDATE;TZID=America/New_York:20230519T000000,20230520T000000,20230521T0000
 00
CATEGORIES:Student Affairs
CONTACT:Division of Student Affairs & Enrollment Management\, 718-262-2331
 \, SAEM@york.cuny.edu
CREATED:20230515T181555Z
DESCRIPTION:Cardinals! Free coffee\, tea\, and snacks will be available fo
 r students on May 17th\, 18th\, 22nd and 23rd from 5pm-7pm\, and on May 20
 th from 12pm-2pm. Stop by the Welcome Center and grab a snack and a bevera
 ge to drink while  you study for finals!
LAST-MODIFIED:20230817T112738Z
LOCATION:Welcome Center
URL:https://www.york.cuny.edu/events/2023/study-up-for-finals
END:VEVENT
BEGIN:VTIMEZONE
TZID:America/New_York
X-LIC-LOCATION:America/New_York
BEGIN:DAYLIGHT
DTSTART:20230312T030000
TZNAME:EDT
TZOFFSETFROM:-0500
TZOFFSETTO:-0400
END:DAYLIGHT
END:VTIMEZONE
END:VCALENDAR
