BEGIN:VCALENDAR
VERSION:2.0
PRODID:-//Plone.org//NONSGML plone.app.event//EN
X-WR-TIMEZONE:America/New_York
BEGIN:VEVENT
SUMMARY:Student Athlete Awards Banquet
DTSTART;TZID=America/New_York:20230512T170000
DTEND;TZID=America/New_York:20230512T190000
DTSTAMP:20260421T052729Z
UID:b893fefb033a424db8a755386866fe6a@172.16.140.7:8080
CATEGORIES:2023,Commencement
CREATED:20230330T212427Z
DESCRIPTION:Student Athlete Awards Banquet
LAST-MODIFIED:20230502T181122Z
LOCATION:Gymnasium
URL:https://www.york.cuny.edu/events/2023/student-athlete-awards-banquet-
END:VEVENT
BEGIN:VTIMEZONE
TZID:America/New_York
X-LIC-LOCATION:America/New_York
BEGIN:DAYLIGHT
DTSTART:20230312T030000
TZNAME:EDT
TZOFFSETFROM:-0500
TZOFFSETTO:-0400
END:DAYLIGHT
END:VTIMEZONE
END:VCALENDAR
