BEGIN:VCALENDAR
VERSION:2.0
PRODID:-//Plone.org//NONSGML plone.app.event//EN
X-WR-TIMEZONE:America/New_York
BEGIN:VEVENT
SUMMARY:Spring Symposium 2023
DTSTART;TZID=America/New_York:20230420T120000
DTEND;TZID=America/New_York:20230420T133000
DTSTAMP:20260419T175654Z
UID:04b80805f6664f559556fc47213ce795@172.16.140.7:8080
CONTACT:https://www.york.cuny.edu/events/spring-2023-symposium-rsvp
CREATED:20230410T162701Z
DESCRIPTION:Berenecea Johnson Eanes\, President of York College\, invites 
 you to attend York’s Spring Symposium
LAST-MODIFIED:20230410T164648Z
LOCATION:AC-3D01
URL:https://www.york.cuny.edu/events/2023/spring-symposium-2023
END:VEVENT
BEGIN:VTIMEZONE
TZID:America/New_York
X-LIC-LOCATION:America/New_York
BEGIN:DAYLIGHT
DTSTART:20230312T030000
TZNAME:EDT
TZOFFSETFROM:-0500
TZOFFSETTO:-0400
END:DAYLIGHT
END:VTIMEZONE
END:VCALENDAR
