BEGIN:VCALENDAR
VERSION:2.0
PRODID:-//Plone.org//NONSGML plone.app.event//EN
X-WR-TIMEZONE:America/New_York
BEGIN:VEVENT
SUMMARY:Softball vs. College of Mount Saint Vincent
DTSTART;TZID=America/New_York:20230322T150000
DTSTAMP:20260420T173255Z
UID:43bbcb66c80a47c48828e31a0123edfd@172.16.140.7:8080
CATEGORIES:Athletics Digital Signage,employee,Athletics,ds,employee featur
 ed,student,Student Activities
CONTACT:York Athletics\, yorkathletics@york.cuny.edu\, https://yorkathleti
 cs.com/calendar
CREATED:20210911T030733Z
DESCRIPTION:York College Cardinals square off against the College of Mount
  Saint Vincent Dolphins in a Softball non-conference doubleheader at home 
 field!
LAST-MODIFIED:20230320T154153Z
LOCATION:Padavan-Preller Fields (236-02 Hillside Avenue)
URL:https://www.york.cuny.edu/events/2023/softball-vs-purchase-03222023
END:VEVENT
BEGIN:VTIMEZONE
TZID:America/New_York
X-LIC-LOCATION:America/New_York
BEGIN:DAYLIGHT
DTSTART:20230312T030000
TZNAME:EDT
TZOFFSETFROM:-0500
TZOFFSETTO:-0400
END:DAYLIGHT
END:VTIMEZONE
END:VCALENDAR
