BEGIN:VCALENDAR
VERSION:2.0
PRODID:-//Plone.org//NONSGML plone.app.event//EN
X-WR-TIMEZONE:America/New_York
BEGIN:VEVENT
SUMMARY:Senior Sip and Paint
DTSTART;TZID=America/New_York:20230331T190000
DTEND;TZID=America/New_York:20230331T220000
DTSTAMP:20260420T045004Z
UID:88c12a0d13804756833b086ae133eae7@172.16.140.7:8080
CATEGORIES:2023,Commencement
CONTACT:Rachael G. Walton\, 718-262-5287\, studentactivities@york.cuny.edu
CREATED:20230320T151851Z
DESCRIPTION:This event will celebrate the class of 2023!
LAST-MODIFIED:20230327T150812Z
LOCATION:York College Atrium
URL:https://www.york.cuny.edu/events/2023/senior-sip--paint
END:VEVENT
BEGIN:VTIMEZONE
TZID:America/New_York
X-LIC-LOCATION:America/New_York
BEGIN:DAYLIGHT
DTSTART:20230312T030000
TZNAME:EDT
TZOFFSETFROM:-0500
TZOFFSETTO:-0400
END:DAYLIGHT
END:VTIMEZONE
END:VCALENDAR
