BEGIN:VCALENDAR
VERSION:2.0
PRODID:-//Plone.org//NONSGML plone.app.event//EN
X-WR-TIMEZONE:America/New_York
BEGIN:VEVENT
SUMMARY:Screening of the documentary "Teddy (aka Theodore) In the Control 
 Room"
DTSTART;TZID=America/New_York:20230420T120000
DTEND;TZID=America/New_York:20230420T140000
DTSTAMP:20260421T230245Z
UID:b5a29e24eeee4ac4aeb5eff043c375d2@172.16.140.7:8080
CONTACT:Dr. Truett Lee Vaigneur\, Jr.
CREATED:20230412T153206Z
DESCRIPTION:He is cool\, hip\,  and super talented. Teddy Cosmo\, who are 
 born with cerebral palsy\, is pursuing his career goals just like any othe
 r struggling New York artist. As the star of the upcoming short documentar
 y "Teddy (aka Theodore) In the Control Room" he speaks opening about being
  disabled\, breaking into the music industry\, and being in an inter-abled
  relationship.  Directed and produced by Dr. Truett Lee Vaigneur\, Jr.
LAST-MODIFIED:20230417T173220Z
LOCATION:AC-2D01
URL:https://www.york.cuny.edu/events/2023/screening
END:VEVENT
BEGIN:VTIMEZONE
TZID:America/New_York
X-LIC-LOCATION:America/New_York
BEGIN:DAYLIGHT
DTSTART:20230312T030000
TZNAME:EDT
TZOFFSETFROM:-0500
TZOFFSETTO:-0400
END:DAYLIGHT
END:VTIMEZONE
END:VCALENDAR
