BEGIN:VCALENDAR
VERSION:2.0
PRODID:-//Plone.org//NONSGML plone.app.event//EN
X-WR-TIMEZONE:America/New_York
BEGIN:VEVENT
SUMMARY:Scholarship Awards Reception
DTSTART;TZID=America/New_York:20230503T180000
DTEND;TZID=America/New_York:20230503T200000
DTSTAMP:20260420T100220Z
UID:3d3eb0e1541e420aa1a14db862ec8b6e@172.16.140.7:8080
ATTENDEE;CN="Invite Only";ROLE=REQ-PARTICIPANT:Invite Only
CATEGORIES:2023,Commencement
CREATED:20230330T205814Z
DESCRIPTION:Scholarship Awards Reception
LAST-MODIFIED:20230427T170203Z
LOCATION:AC-2D01
URL:https://www.york.cuny.edu/events/2023/scholarship-awards-reception
END:VEVENT
BEGIN:VTIMEZONE
TZID:America/New_York
X-LIC-LOCATION:America/New_York
BEGIN:DAYLIGHT
DTSTART:20230312T030000
TZNAME:EDT
TZOFFSETFROM:-0500
TZOFFSETTO:-0400
END:DAYLIGHT
END:VTIMEZONE
END:VCALENDAR
