BEGIN:VCALENDAR
VERSION:2.0
PRODID:-//Plone.org//NONSGML plone.app.event//EN
X-WR-TIMEZONE:America/New_York
BEGIN:VEVENT
SUMMARY:College Radio Freestyles
DTSTART;TZID=America/New_York:20231019T143000
DTEND;TZID=America/New_York:20231019T153000
DTSTAMP:20260425T183306Z
UID:4a1d32e04b77480bad8fdb7e6afc8b51@172.16.140.7:8080
RRULE:FREQ=WEEKLY;UNTIL=20231212T000000Z;INTERVAL=1;BYDAY=TU
CATEGORIES:YCRadio,ds
CREATED:20231019T173213Z
DESCRIPTION:York College Radio Station If you have "Bars" and want to free
 style on the show 
LAST-MODIFIED:20231115T191825Z
URL:https://www.york.cuny.edu/events/2023/radio-freestyles
END:VEVENT
BEGIN:VTIMEZONE
TZID:America/New_York
X-LIC-LOCATION:America/New_York
BEGIN:DAYLIGHT
DTSTART:20230312T030000
TZNAME:EDT
TZOFFSETFROM:-0500
TZOFFSETTO:-0400
END:DAYLIGHT
END:VTIMEZONE
END:VCALENDAR
