BEGIN:VCALENDAR
VERSION:2.0
PRODID:-//Plone.org//NONSGML plone.app.event//EN
X-WR-TIMEZONE:America/New_York
BEGIN:VEVENT
SUMMARY:Mindfulness: Find Your Om!
DTSTART;TZID=America/New_York:20230419T120000
DTEND;TZID=America/New_York:20230419T130000
DTSTAMP:20260420T164730Z
UID:2659599b1abe4cd0ae76f02962b0c60a@172.16.140.7:8080
CATEGORIES:Student Affairs,Counseling Center
CONTACT:Counseling Center\, 718-262-2272\, counseling@york.cuny.edu
CREATED:20230303T204347Z
DESCRIPTION:Part of Wellness Wednesdays
LAST-MODIFIED:20230306T143714Z
LOCATION:AC-1G06
URL:https://www.york.cuny.edu/events/2023/mindfulness-find-your-om
END:VEVENT
BEGIN:VTIMEZONE
TZID:America/New_York
X-LIC-LOCATION:America/New_York
BEGIN:DAYLIGHT
DTSTART:20230312T030000
TZNAME:EDT
TZOFFSETFROM:-0500
TZOFFSETTO:-0400
END:DAYLIGHT
END:VTIMEZONE
END:VCALENDAR
