BEGIN:VCALENDAR
VERSION:2.0
PRODID:-//Plone.org//NONSGML plone.app.event//EN
X-WR-TIMEZONE:America/New_York
BEGIN:VEVENT
SUMMARY:Men’s Volleyball vs. Baruch College
DTSTART;TZID=America/New_York:20230403T180000
DTSTAMP:20260421T132717Z
UID:d0332563b92f40bbae5ebbc16ebcb165@172.16.140.7:8080
CATEGORIES:Athletics Digital Signage,employee,Athletics,ds,employee featur
 ed,student,Student Activities
CONTACT:York Athletics\, yorkathletics@york.cuny.edu\, https://yorkathleti
 cs.com/calendar
CREATED:20210911T030733Z
DESCRIPTION:York College Cardinals take home court against the Baruch Coll
 ege Bearcats in a CUNYAC Men’s Volleyball doubleheader!
LAST-MODIFIED:20230326T041059Z
LOCATION:York College Gymnasium
URL:https://www.york.cuny.edu/events/2023/mens-volleyball-vs-baruch-040320
 23
END:VEVENT
BEGIN:VTIMEZONE
TZID:America/New_York
X-LIC-LOCATION:America/New_York
BEGIN:DAYLIGHT
DTSTART:20230312T030000
TZNAME:EDT
TZOFFSETFROM:-0500
TZOFFSETTO:-0400
END:DAYLIGHT
END:VTIMEZONE
END:VCALENDAR
