BEGIN:VCALENDAR
VERSION:2.0
PRODID:-//Plone.org//NONSGML plone.app.event//EN
X-WR-TIMEZONE:America/New_York
BEGIN:VEVENT
SUMMARY:Men's Basketball vs. John Jay College
DTSTART;TZID=America/New_York:20230124T190000
DTSTAMP:20260421T130617Z
UID:638c2c81c3024e6b9c971d8b638f268e@172.16.140.7:8080
CATEGORIES:Athletics Digital Signage,employee,Athletics,ds,employee featur
 ed,student,Student Activities
CONTACT:York Athletics\, yorkathletics@york.cuny.edu\, https://yorkathleti
 cs.com/calendar
CREATED:20210911T030733Z
DESCRIPTION:York College Cardinals host the John Jay College Bloodhounds i
 n a Men’s Basketball CUNYAC matchup!
LAST-MODIFIED:20230110T202739Z
LOCATION:York College Gymnasium
URL:https://www.york.cuny.edu/events/2023/mens-basketball-vs-john-jay-0124
 2023
END:VEVENT
BEGIN:VTIMEZONE
TZID:America/New_York
X-LIC-LOCATION:America/New_York
BEGIN:STANDARD
DTSTART:20221106T010000
TZNAME:EST
TZOFFSETFROM:-0400
TZOFFSETTO:-0500
END:STANDARD
END:VTIMEZONE
END:VCALENDAR
