BEGIN:VCALENDAR
VERSION:2.0
PRODID:-//Plone.org//NONSGML plone.app.event//EN
X-WR-TIMEZONE:America/New_York
BEGIN:VEVENT
SUMMARY:COOP Workshop Secrets to an Effective Cover Letter
DTSTART;TZID=America/New_York:20230209T120000
DTEND;TZID=America/New_York:20230209T130000
DTSTAMP:20260421T071251Z
UID:08302d6dd1134a17a8d06502ff8dcc0f@172.16.140.7:8080
CATEGORIES:Student Affairs,Career Services
CONTACT:Career Services\, 718-262-2282\, career@york.cuny.edu\, https://us
 06web.zoom.us/meeting/register/tZYpdO6qqDMqE9ajxFLpA6OV7gBKqA-dcJlh
CREATED:20230125T195306Z
DESCRIPTION:Participants will get a taste of a "hustle" workshop by learni
 ng the purpose and understanding the elements of dissecting a job descript
 ion and engaging in your own personal reflection of your skill set to craf
 t an effective cover letter.   This is a hybrid event
LAST-MODIFIED:20230127T191807Z
LOCATION:AC-3M01/ Hybrid
URL:https://www.york.cuny.edu/events/2023/coop-workshop-secrets-to-an-effe
 ctive-cover-letter
END:VEVENT
BEGIN:VTIMEZONE
TZID:America/New_York
X-LIC-LOCATION:America/New_York
BEGIN:STANDARD
DTSTART:20221106T010000
TZNAME:EST
TZOFFSETFROM:-0400
TZOFFSETTO:-0500
END:STANDARD
END:VTIMEZONE
END:VCALENDAR
