BEGIN:VCALENDAR
VERSION:2.0
PRODID:-//Plone.org//NONSGML plone.app.event//EN
X-WR-TIMEZONE:America/New_York
BEGIN:VEVENT
SUMMARY:Cardinal Career and Resource Exploration Fair
DTSTART;TZID=America/New_York:20230302T110000
DTEND;TZID=America/New_York:20230302T160000
DTSTAMP:20260420T215843Z
UID:1c7bc4b606ca4eb9bdf09e909d50f9fb@172.16.140.7:8080
CATEGORIES:Student Affairs,Center for Students with Disabilities
CONTACT:Center for Student With Disabilities\, 718-262-2191\, csd@york.cun
 y.edu\, https://tinyurl.com/CSDResourceFair
CREATED:20230224T202724Z
DESCRIPTION:Join us for networking opportunities\, career exploration\, an
 d access to resources for York students.
LAST-MODIFIED:20230224T230406Z
LOCATION:AC-2D01
URL:https://www.york.cuny.edu/events/2023/cardinal-career-resource-explora
 tion-fair
END:VEVENT
BEGIN:VTIMEZONE
TZID:America/New_York
X-LIC-LOCATION:America/New_York
BEGIN:STANDARD
DTSTART:20221106T010000
TZNAME:EST
TZOFFSETFROM:-0400
TZOFFSETTO:-0500
END:STANDARD
END:VTIMEZONE
END:VCALENDAR
