BEGIN:VCALENDAR
VERSION:2.0
PRODID:-//Plone.org//NONSGML plone.app.event//EN
X-WR-TIMEZONE:America/New_York
BEGIN:VEVENT
SUMMARY:2023 Gala Fashion Show
DTSTART;TZID=America/New_York:20230428T170000
DTEND;TZID=America/New_York:20230428T213000
DTSTAMP:20260421T143213Z
UID:e7c4a19e5569418f82a2d5934eaa113e@172.16.140.7:8080
CONTACT:African Student Association\, yorkcolleasa91@gmail.com
CREATED:20230418T140612Z
DESCRIPTION:YC African Student Association/Diversity and Compliance Presen
 ts Our 2023 Gala Fashion Show
LAST-MODIFIED:20230420T143332Z
LOCATION:Health and Physical Education Building
URL:https://www.york.cuny.edu/events/2023/2023-gala-fashion-show
END:VEVENT
BEGIN:VTIMEZONE
TZID:America/New_York
X-LIC-LOCATION:America/New_York
BEGIN:DAYLIGHT
DTSTART:20230312T030000
TZNAME:EDT
TZOFFSETFROM:-0500
TZOFFSETTO:-0400
END:DAYLIGHT
END:VTIMEZONE
END:VCALENDAR
